BEGIN:VCALENDAR
VERSION:2.0
PRODID:-//Titans Project - ECPv6.5.1.5//NONSGML v1.0//EN
CALSCALE:GREGORIAN
METHOD:PUBLISH
X-WR-CALNAME:Titans Project
X-ORIGINAL-URL:https://titans-project.eu
X-WR-CALDESC:Events for Titans Project
REFRESH-INTERVAL;VALUE=DURATION:PT1H
X-Robots-Tag:noindex
X-PUBLISHED-TTL:PT1H
BEGIN:VTIMEZONE
TZID:Europe/Paris
BEGIN:DAYLIGHT
TZOFFSETFROM:+0100
TZOFFSETTO:+0200
TZNAME:CEST
DTSTART:20240331T010000
END:DAYLIGHT
BEGIN:STANDARD
TZOFFSETFROM:+0200
TZOFFSETTO:+0100
TZNAME:CET
DTSTART:20241027T010000
END:STANDARD
END:VTIMEZONE
BEGIN:VEVENT
DTSTART;TZID=Europe/Paris:20241009T140000
DTEND;TZID=Europe/Paris:20241011T130000
DTSTAMP:20260421T121911
CREATED:20240827T093344Z
LAST-MODIFIED:20240827T093344Z
UID:619-1728482400-1728651600@titans-project.eu
SUMMARY:TITANS Thrid Annual Consortium Meeting in Spain
DESCRIPTION:Partners of the TITANS project will be gathering both online and in person on the 09-11 October 2024\, at the Centre for Energy\, Environmental and Technological Research (CIEMAT)\, in Madrid\, Spain.\n\nThe first day will kick-off with a welcome and introduction to the project by project coordinator\, Elodie Bernard\, from the French Atomic Energy and Alternative Energies Commission (CEA). They will then dive into technical discussions and brainstorming sessions on specific topics which will be identified prior to the meeting. \nThe Scientific Advisory Committee (SAC) members will also be attending the Consortium meeting\, providing feedback and recommendations for the project’s continuation.
URL:https://titans-project.eu/event/titans-thrid-annual-consortium-meeting-in-spain/
LOCATION:Madrid\, Spain
CATEGORIES:Conference
ATTACH;FMTTYPE=image/jpeg:https://titans-project.eu/wp-content/uploads/2024/08/getty-images-fV8Actgge_k-unsplash-scaled.jpg
END:VEVENT
END:VCALENDAR