BEGIN:VCALENDAR
VERSION:2.0
PRODID:-//Titans Project - ECPv6.5.1.5//NONSGML v1.0//EN
CALSCALE:GREGORIAN
METHOD:PUBLISH
X-WR-CALNAME:Titans Project
X-ORIGINAL-URL:https://titans-project.eu
X-WR-CALDESC:Events for Titans Project
REFRESH-INTERVAL;VALUE=DURATION:PT1H
X-Robots-Tag:noindex
X-PUBLISHED-TTL:PT1H
BEGIN:VTIMEZONE
TZID:Europe/Paris
BEGIN:DAYLIGHT
TZOFFSETFROM:+0100
TZOFFSETTO:+0200
TZNAME:CEST
DTSTART:20220327T010000
END:DAYLIGHT
BEGIN:STANDARD
TZOFFSETFROM:+0200
TZOFFSETTO:+0100
TZNAME:CET
DTSTART:20221030T010000
END:STANDARD
BEGIN:DAYLIGHT
TZOFFSETFROM:+0100
TZOFFSETTO:+0200
TZNAME:CEST
DTSTART:20230326T010000
END:DAYLIGHT
BEGIN:STANDARD
TZOFFSETFROM:+0200
TZOFFSETTO:+0100
TZNAME:CET
DTSTART:20231029T010000
END:STANDARD
BEGIN:DAYLIGHT
TZOFFSETFROM:+0100
TZOFFSETTO:+0200
TZNAME:CEST
DTSTART:20240331T010000
END:DAYLIGHT
BEGIN:STANDARD
TZOFFSETFROM:+0200
TZOFFSETTO:+0100
TZNAME:CET
DTSTART:20241027T010000
END:STANDARD
END:VTIMEZONE
BEGIN:VEVENT
DTSTART;TZID=Europe/Paris:20240922T080000
DTEND;TZID=Europe/Paris:20240927T170000
DTSTAMP:20260420T153721
CREATED:20240712T135147Z
LAST-MODIFIED:20240712T135351Z
UID:596-1726992000-1727456400@titans-project.eu
SUMMARY:33rd Symposium On Fusion Technology
DESCRIPTION:Welcome to SOFT 2024!\n\n\nWe cordially invite you to participate in the 33rd Symposium on Fusion Technology (SOFT 2024)\, which will be held in Dublin City University\, Ireland from 22 to 27 September 2024. The event is organised by Dublin City University and the National Centre for Plasma\, Science and Technology. \nDuring this event\, Titans Project Coordinator\, Elodie Bernard from CEA\, will be present to deliver an overview of the TITANS (Tritium Impact and Transfer in Advanced Nuclear ReactorS) project. \nThe biennial symposium on fusion technology is the most important conference in this field in Europe\, bringing together scientists\, engineers\, industry representatives and exhibitors from all over the world and focusing on the latest developments in fusion experiments and activities. SOFT 2024 will include invited\, oral and poster presentations\, as well as industry and exhibitions and it will be held at the Helix\, Dublin City University. Dublin is the vibrant capital city of Ireland. \nSOFT 2024 is hosted as a hybrid event. The Fourwaves platform will be used for the online part of the conference\, some useful tips can be found here. \nPlease note that photography and filming is taking place at SOFT 2024. The photographs and recordings made are likely to appear on our website.
URL:https://titans-project.eu/event/33rd-symposium-on-fusion-technology/
LOCATION:Dublin\, Ireland
CATEGORIES:Conference
ATTACH;FMTTYPE=image/jpeg:https://titans-project.eu/wp-content/uploads/2024/07/logo-graphic-1024x678-1.jpg
END:VEVENT
BEGIN:VEVENT
DTSTART;VALUE=DATE:20240318
DTEND;VALUE=DATE:20240323
DTSTAMP:20260420T153721
CREATED:20230804T151234Z
LAST-MODIFIED:20240319T151638Z
UID:424-1710720000-1711151999@titans-project.eu
SUMMARY:TRITIUM SCHOOL - Third Edition
DESCRIPTION:Join us online and in person in Marseille\, at the Jardin du Pharo for the third edition of the Tritium School.\nThe event will take place on the 18-22 March 2024. \nRegistrations are closed. Head to the Third Tritium School webpage to register. \nRegistration fee (on-site): 185 Eur \nRegistration fee for 4 days of the school + visit of ITER: 200€  \nRegistration fee (on-line): Free of charge \nPlease note that the visit of ITER is only available for the participants attending physically the 4 days of the Tritium school. 
URL:https://titans-project.eu/event/tritium-school-third-edition/
CATEGORIES:Conference
ATTACH;FMTTYPE=image/jpeg:https://titans-project.eu/wp-content/uploads/2024/03/TiTANS_Tritium-School-Flyer_01_2024-copie-scaled.jpg
END:VEVENT
BEGIN:VEVENT
DTSTART;TZID=Europe/Paris:20231003T133000
DTEND;TZID=Europe/Paris:20231003T173000
DTSTAMP:20260420T153721
CREATED:20230804T152634Z
LAST-MODIFIED:20240112T095549Z
UID:433-1696339800-1696354200@titans-project.eu
SUMMARY:Permeation Barriers Webinar
DESCRIPTION:Join us online on 3 October 2023\, from 13:30 to 17h30 CET Time for the Permeation Barriers Webinar. \nRegistrations for this event are closed.  \n  \nAGENDA\n13:30 – 13:40  \nOpening and welcome word\,\nby Sabina Markelj (JSI) and Elodie Bernard (CEA) \n13:40 – 14:25 \nPresentation title “Strategy for validation of tritium permeation through DEMO relevant materials”\,\nby Ion Cristescu (KIT) \n14:25 – 15:10 \nPresentation title “Ceramic permeation barriers in contact with PbLi eutectic”\,\nby Fabio Di Fonzo (IIT) \n15:10 – 15:25  \nBreak \n15:25 – 16:10 \nPresentation title “Sputtering  fabrication of alternative coatings to act as corrosion and tritium permeation barriers”\,\nby Raquel Gonzalez Arrabal (UPM) \n16:10 – 16:55 \nPresentation title “Facilities for the evaluation of permeation barriers under fusion-relevant conditions”\,\nby Marta Malo (CIEMAT) \n16:55 – 17:30 \nSummary and Closing of webinar\, by Sabina Markelj (JSI) \n 
URL:https://titans-project.eu/event/permeation-barriers-webinar/
CATEGORIES:Conference
ATTACH;FMTTYPE=image/jpeg:https://titans-project.eu/wp-content/uploads/2023/08/samantha-borges-EeS69TTPQ18-unsplash-scaled.jpg
END:VEVENT
BEGIN:VEVENT
DTSTART;VALUE=DATE:20220913
DTEND;VALUE=DATE:20220915
DTSTAMP:20260420T153721
CREATED:20221214T170951Z
LAST-MODIFIED:20221214T170951Z
UID:189-1663027200-1663199999@titans-project.eu
SUMMARY:TITANS KoM
DESCRIPTION:The TITANS project held its kick-off meeting on the 13-14th September 2022. \nCoordinated by CEA\, TITANS is a 36-month project consisting of 21 partners. TITANS is established from the results obtained in the former EU TRANSAT project.
URL:https://titans-project.eu/event/titans-kom/
CATEGORIES:Conference
ATTACH;FMTTYPE=image/jpeg:https://titans-project.eu/wp-content/uploads/2022/12/pexels-luis-quintero-2774556-scaled.jpg
END:VEVENT
END:VCALENDAR